BEGIN:VCALENDAR
METHOD:PUBLISH
VERSION:2.0
PRODID:-//S.K.I.A.F Landesverband Salzburg//Veranstaltungskalender 1.0//DE
BEGIN:VEVENT
UID:20260919T140000_Saisonauftakttraining
DTSTAMP:20260420T020424Z
DTSTART:20260919T140000
DTEND:20260919T120000
SUMMARY:Saisonauftakttraining
DESCRIPTION:SA: 14.00 – 17.30 Uhr | SO: 10.00 – 12.00 Uhr 
LOCATION:Musikmittelschule 22 Ramsauerstraße 61, 4020 Linz
END:VEVENT
BEGIN:VEVENT
UID:20260920T140000_Saisonauftakttraining
DTSTAMP:20260420T020424Z
DTSTART:20260920T140000
DTEND:20260920T120000
SUMMARY:Saisonauftakttraining
DESCRIPTION:SA: 14.00 – 17.30 Uhr | SO: 10.00 – 12.00 Uhr 
LOCATION:Musikmittelschule 22 Ramsauerstraße 61, 4020 Linz
END:VEVENT
END:VCALENDAR
