BEGIN:VCALENDAR
METHOD:PUBLISH
VERSION:2.0
PRODID:-//S.K.I.A.F Landesverband Salzburg//Veranstaltungskalender 1.0//DE
BEGIN:VEVENT
UID:20260827_SKIAF-Kinder--und-Jugendlager-2026
DTSTAMP:20260420T111419Z
DTSTART:20260827
DTEND:20260827
SUMMARY:SKIAF Kinder- und Jugendlager 2026
DESCRIPTION:Speziell für Kinder und Jugendliche von Weiß- bis Braungurt \n\n\n  Die Teilnahme am Sommerlager für Kinder und Jugendliche ist für alle Karateka der SKIAF bis 14 Jahre möglich.
LOCATION:Jugendgästehaus Bad Ischl Am Rechensteg 5, 4820 Bad Ischl
END:VEVENT
BEGIN:VEVENT
UID:20260828_SKIAF-Kinder--und-Jugendlager-2026
DTSTAMP:20260420T111419Z
DTSTART:20260828
DTEND:20260828
SUMMARY:SKIAF Kinder- und Jugendlager 2026
DESCRIPTION:Speziell für Kinder und Jugendliche von Weiß- bis Braungurt \n\n\n  Die Teilnahme am Sommerlager für Kinder und Jugendliche ist für alle Karateka der SKIAF bis 14 Jahre möglich.
LOCATION:Jugendgästehaus Bad Ischl Am Rechensteg 5, 4820 Bad Ischl
END:VEVENT
BEGIN:VEVENT
UID:20260829_SKIAF-Kinder--und-Jugendlager-2026
DTSTAMP:20260420T111419Z
DTSTART:20260829
DTEND:20260829
SUMMARY:SKIAF Kinder- und Jugendlager 2026
DESCRIPTION:Speziell für Kinder und Jugendliche von Weiß- bis Braungurt \n\n\n  Die Teilnahme am Sommerlager für Kinder und Jugendliche ist für alle Karateka der SKIAF bis 14 Jahre möglich.
LOCATION:Jugendgästehaus Bad Ischl Am Rechensteg 5, 4820 Bad Ischl
END:VEVENT
BEGIN:VEVENT
UID:20260830_SKIAF-Kinder--und-Jugendlager-2026
DTSTAMP:20260420T111419Z
DTSTART:20260830
DTEND:20260830
SUMMARY:SKIAF Kinder- und Jugendlager 2026
DESCRIPTION:Speziell für Kinder und Jugendliche von Weiß- bis Braungurt \n\n\n  Die Teilnahme am Sommerlager für Kinder und Jugendliche ist für alle Karateka der SKIAF bis 14 Jahre möglich.
LOCATION:Jugendgästehaus Bad Ischl Am Rechensteg 5, 4820 Bad Ischl
END:VEVENT
END:VCALENDAR
