BEGIN:VCALENDAR
METHOD:PUBLISH
VERSION:2.0
PRODID:-//S.K.I.A.F Landesverband Salzburg//Veranstaltungskalender 1.0//DE
BEGIN:VEVENT
UID:20260710_SKIAF-Natsu-gasshuku-Oberwart
DTSTAMP:20260420T111745Z
DTSTART:20260710
DTEND:20260710
SUMMARY:SKIAF Natsu gasshuku Oberwart
DESCRIPTION:Österreichische Karate Sommerschule  
LOCATION:Freisportanlage Oberwart Informstraße 2, 7400 Oberwart
END:VEVENT
BEGIN:VEVENT
UID:20260711_SKIAF-Natsu-gasshuku-Oberwart
DTSTAMP:20260420T111745Z
DTSTART:20260711
DTEND:20260711
SUMMARY:SKIAF Natsu gasshuku Oberwart
DESCRIPTION:Österreichische Karate Sommerschule  
LOCATION:Freisportanlage Oberwart Informstraße 2, 7400 Oberwart
END:VEVENT
BEGIN:VEVENT
UID:20260712_SKIAF-Natsu-gasshuku-Oberwart
DTSTAMP:20260420T111745Z
DTSTART:20260712
DTEND:20260712
SUMMARY:SKIAF Natsu gasshuku Oberwart
DESCRIPTION:Österreichische Karate Sommerschule  
LOCATION:Freisportanlage Oberwart Informstraße 2, 7400 Oberwart
END:VEVENT
BEGIN:VEVENT
UID:20260713_SKIAF-Natsu-gasshuku-Oberwart
DTSTAMP:20260420T111745Z
DTSTART:20260713
DTEND:20260713
SUMMARY:SKIAF Natsu gasshuku Oberwart
DESCRIPTION:Österreichische Karate Sommerschule  
LOCATION:Freisportanlage Oberwart Informstraße 2, 7400 Oberwart
END:VEVENT
END:VCALENDAR
