BEGIN:VCALENDAR
METHOD:PUBLISH
VERSION:2.0
PRODID:-//S.K.I.A.F Landesverband Salzburg//Veranstaltungskalender 1.0//DE
BEGIN:VEVENT
UID:20260531T090000_11.-Kawasoe-shihan-Memorial-Cup-Straßwalchen
DTSTAMP:20260420T020126Z
DTSTART:20260531T090000
DTEND:20260531T160000
SUMMARY:11. Kawasoe shihan Memorial Cup Straßwalchen
DESCRIPTION: 
LOCATION:Mittelschule Straßwalchen Aichbergstraße 1, 5204  Straßwalchen
END:VEVENT
END:VCALENDAR
