BEGIN:VCALENDAR
METHOD:PUBLISH
VERSION:2.0
PRODID:-//S.K.I.A.F Landesverband Salzburg//Veranstaltungskalender 1.0//DE
BEGIN:VEVENT
UID:20261010T150000_Tageslehrgang-Haag-am-Hausruck
DTSTAMP:20260420T112125Z
DTSTART:20261010T150000
DTEND:20261010T183000
SUMMARY:Tageslehrgang Haag am Hausruck
DESCRIPTION: Instruktor: Tanaka Shinji sensei
LOCATION:ATLANTIC Sports Rottenbacherstraße 27, 4680 Haag am Hausruck
END:VEVENT
END:VCALENDAR
