BEGIN:VCALENDAR
METHOD:PUBLISH
VERSION:2.0
PRODID:-//S.K.I.A.F Landesverband Salzburg//Veranstaltungskalender 1.0//DE
BEGIN:VEVENT
UID:20261003T150000_Tageslehrgang-Tulln-
DTSTAMP:20260420T020109Z
DTSTART:20261003T150000
DTEND:20261003
SUMMARY:Tageslehrgang Tulln 
DESCRIPTION:SA: 15.00-18.30 Uhr / alle SKIAF\n|| SO: 10.00-12.00 Uhr / Oberstufentraining (ab 3. Kyū)  Instruktor: Koga Rikuta shihan
LOCATION:Marc Aurel Tulln Wiener Str. 23,  3430  Tulln an der Donau
END:VEVENT
BEGIN:VEVENT
UID:20261004T150000_Tageslehrgang-Tulln-
DTSTAMP:20260420T020109Z
DTSTART:20261004T150000
DTEND:20261004
SUMMARY:Tageslehrgang Tulln 
DESCRIPTION:SA: 15.00-18.30 Uhr / alle SKIAF\n|| SO: 10.00-12.00 Uhr / Oberstufentraining (ab 3. Kyū)  Instruktor: Koga Rikuta shihan
LOCATION:Marc Aurel Tulln Wiener Str. 23,  3430  Tulln an der Donau
END:VEVENT
END:VCALENDAR
