BEGIN:VCALENDAR
METHOD:PUBLISH
VERSION:2.0
PRODID:-//S.K.I.A.F Landesverband Salzburg//Veranstaltungskalender 1.0//DE
BEGIN:VEVENT
UID:20260613T150000_Tageslehrgang-Rechnitz
DTSTAMP:20260420T020116Z
DTSTART:20260613T150000
DTEND:20260613T183000
SUMMARY:Tageslehrgang Rechnitz
DESCRIPTION: 
END:VEVENT
END:VCALENDAR
