BEGIN:VCALENDAR
METHOD:PUBLISH
VERSION:2.0
PRODID:-//S.K.I.A.F Landesverband Salzburg//Veranstaltungskalender 1.0//DE
BEGIN:VEVENT
UID:20260530T110000_32.-Internationales-Kyū-Turnier-Straßwalchen
DTSTAMP:20260420T020126Z
DTSTART:20260530T110000
DTEND:20260530T180000
SUMMARY:32. Internationales Kyū-Turnier Straßwalchen
DESCRIPTION: kein Vormittagstraining in Henndorf
LOCATION:Mittelschule Straßwalchen Aichbergstraße 1, 5204  Straßwalchen
END:VEVENT
END:VCALENDAR
