BEGIN:VCALENDAR
METHOD:PUBLISH
VERSION:2.0
PRODID:-//S.K.I.A.F Landesverband Salzburg//Veranstaltungskalender 1.0//DE
BEGIN:VEVENT
UID:20261011T100000_DAN-Lehrgang-Henndorf
DTSTAMP:20260420T020348Z
DTSTART:20261011T100000
DTEND:20261011T120000
SUMMARY:DAN-Lehrgang Henndorf
DESCRIPTION:für alle DAN-Träger*innen des SKIAF Instruktor: Tanaka Shinji sensei
LOCATION:Turnhalle der VS Henndorf Sportplatzstraße 10, 5302 Henndorf am Wallersee
END:VEVENT
END:VCALENDAR
