BEGIN:VCALENDAR
METHOD:PUBLISH
VERSION:2.0
PRODID:-//S.K.I.A.F Landesverband Salzburg//Veranstaltungskalender 1.0//DE
BEGIN:VEVENT
UID:20260503T100000_Oberstufentraining-Henndorf-am-Wallersee
DTSTAMP:20260420T105114Z
DTSTART:20260503T100000
DTEND:20260503T120000
SUMMARY:Oberstufentraining Henndorf am Wallersee
DESCRIPTION:Instruktoren: Trainer der Technischen Kommission der SKIAF Ab 5. Kyū!  
LOCATION:Turnhalle der VS Henndorf Sportplatzstraße 10, 5302 Henndorf am Wallersee
END:VEVENT
END:VCALENDAR
