BEGIN:VCALENDAR
METHOD:PUBLISH
VERSION:2.0
PRODID:-//S.K.I.A.F Landesverband Salzburg//Veranstaltungskalender 1.0//DE
BEGIN:VEVENT
UID:20260627T150000_Tageslehrgang-Henndorf
DTSTAMP:20260420T015941Z
DTSTART:20260627T150000
DTEND:20260627T183000
SUMMARY:Tageslehrgang Henndorf
DESCRIPTION: 
LOCATION:Turnhalle der VS Henndorf Sportplatzstraße 10, 5302 Henndorf am Wallersee
END:VEVENT
END:VCALENDAR
