BEGIN:VCALENDAR
METHOD:PUBLISH
VERSION:2.0
PRODID:-//S.K.I.A.F Landesverband Salzburg//Veranstaltungskalender 1.0//DE
BEGIN:VEVENT
UID:20261128T150000_Tageslehrgang-Oberschützen
DTSTAMP:20260420T020306Z
DTSTART:20261128T150000
DTEND:20261128
SUMMARY:Tageslehrgang Oberschützen
DESCRIPTION:SA: 15.00-18.30 Uhr / alle SKIAF\n|| SO: 10.00-12.00 Uhr / Oberstufentraining (ab 5. Kyū)  
LOCATION:Mittelschule und Sportmittelschule Oberschützen Schulweg 6, 7432 Oberschützen
END:VEVENT
BEGIN:VEVENT
UID:20261129T150000_Tageslehrgang-Oberschützen
DTSTAMP:20260420T020306Z
DTSTART:20261129T150000
DTEND:20261129
SUMMARY:Tageslehrgang Oberschützen
DESCRIPTION:SA: 15.00-18.30 Uhr / alle SKIAF\n|| SO: 10.00-12.00 Uhr / Oberstufentraining (ab 5. Kyū)  
LOCATION:Mittelschule und Sportmittelschule Oberschützen Schulweg 6, 7432 Oberschützen
END:VEVENT
END:VCALENDAR
