BEGIN:VCALENDAR
METHOD:PUBLISH
VERSION:2.0
PRODID:-//S.K.I.A.F Landesverband Salzburg//Veranstaltungskalender 1.0//DE
BEGIN:VEVENT
UID:20260620T110000_34.-Österreichische-Meisterschaft
DTSTAMP:20260420T020546Z
DTSTART:20260620T110000
DTEND:20260620T150000
SUMMARY:34. Österreichische Meisterschaft
DESCRIPTION: 
END:VEVENT
END:VCALENDAR
