BEGIN:VCALENDAR
METHOD:PUBLISH
VERSION:2.0
PRODID:-//S.K.I.A.F Landesverband Salzburg//Veranstaltungskalender 1.0//DE
BEGIN:VEVENT
UID:20260502T150000_Tageslehrgang-Salzburg
DTSTAMP:20260420T095629Z
DTSTART:20260502T150000
DTEND:20260502T183000
SUMMARY:Tageslehrgang Salzburg
DESCRIPTION:Instruktoren: Trainer der Technischen Kommission der SKIAF 
LOCATION:Sportzentrum Nord, Liefering Josef-Brandstätter-Straße 9, 5020  Salzburg
END:VEVENT
END:VCALENDAR
