BEGIN:VCALENDAR
METHOD:PUBLISH
VERSION:2.0
PRODID:-//S.K.I.A.F Landesverband Salzburg//Veranstaltungskalender 1.0//DE
BEGIN:VEVENT
UID:20260501T190000_Abendlehrgang-Straßwalchen
DTSTAMP:20260421T123437Z
DTSTART:20260501T190000
DTEND:20260501T210000
SUMMARY:Abendlehrgang Straßwalchen
DESCRIPTION:Training für Weiß- bis Orangegürtel: 19.00–20.30 Uhr\nTraining ab 6. Kyū: 19.00–21.00 Uhr Instruktor: Koga Rikuta Shihan
LOCATION:Turnhalle VS Irrsdorf Irrsdorfer Kirchenstraße 11, 5204 Straßwalchen
END:VEVENT
END:VCALENDAR
